BEGIN:VCALENDAR
VERSION:2.0
PRODID:-//Centre communautaire de la Ouareau//ccogv.com//FR
CALSCALE:GREGORIAN
METHOD:PUBLISH
BEGIN:VEVENT
UID:activite-1@ccogv.com
DTSTAMP:20260419T164800Z
DTSTART:20260516T090000Z
DTEND:20260416T235900Z
SUMMARY:Poker Run Extrme 2026
LOCATION:500 des Margurites, Chertsey QC
DESCRIPTION:Le Poker Run Extrme, cest bien plus quune simple ride : cest une exprience hors route unique, avec un parcours spcialement conu pour lvnement, quelques dfis, plusieurs contournements, du fun garanti, un souper, de lanimation et des prix de prsence.
URL:https://centreouareau.ca/activites/1
END:VEVENT
END:VCALENDAR
